BEGIN:VCALENDAR
VERSION:2.0
PRODID:-//M &amp; Vous - ECPv6.15.17//NONSGML v1.0//EN
CALSCALE:GREGORIAN
METHOD:PUBLISH
X-WR-CALNAME:M &amp; Vous
X-ORIGINAL-URL:https://m-vous.fr
X-WR-CALDESC:Évènements pour M &amp; Vous
REFRESH-INTERVAL;VALUE=DURATION:PT1H
X-Robots-Tag:noindex
X-PUBLISHED-TTL:PT1H
BEGIN:VTIMEZONE
TZID:Europe/Paris
BEGIN:DAYLIGHT
TZOFFSETFROM:+0100
TZOFFSETTO:+0200
TZNAME:CEST
DTSTART:20250330T010000
END:DAYLIGHT
BEGIN:STANDARD
TZOFFSETFROM:+0200
TZOFFSETTO:+0100
TZNAME:CET
DTSTART:20251026T010000
END:STANDARD
BEGIN:DAYLIGHT
TZOFFSETFROM:+0100
TZOFFSETTO:+0200
TZNAME:CEST
DTSTART:20260329T010000
END:DAYLIGHT
BEGIN:STANDARD
TZOFFSETFROM:+0200
TZOFFSETTO:+0100
TZNAME:CET
DTSTART:20261025T010000
END:STANDARD
BEGIN:DAYLIGHT
TZOFFSETFROM:+0100
TZOFFSETTO:+0200
TZNAME:CEST
DTSTART:20270328T010000
END:DAYLIGHT
BEGIN:STANDARD
TZOFFSETFROM:+0200
TZOFFSETTO:+0100
TZNAME:CET
DTSTART:20271031T010000
END:STANDARD
END:VTIMEZONE
BEGIN:VEVENT
DTSTART;TZID=Europe/Paris:20260424T090000
DTEND;TZID=Europe/Paris:20260424T103000
DTSTAMP:20260420T143613
CREATED:20260306T131426Z
LAST-MODIFIED:20260401T120255Z
UID:1727-1777021200-1777026600@m-vous.fr
SUMMARY:M&Vous Morning – 2ème édition : Fixer ses tarifs sans cupabiliser
DESCRIPTION:M&Vous Mornings 2eme édition : fixer ses tarifs sans culpabiliser				\n																														\n					 Les M&Vous Mornings continuent…				\n		Après une première édition riche en échanges\, on se retrouve pour la 2ème matinale dédiée aux entrepreneurs du bien-être \n#2 – Fixer ses tarifs sans culpabiliser** \n \nAvec Marie Braem\, coach énergétique et ancienne manager \n \nUn sujet essentiel pour : \n \n\n\n\n\n\n\n\n\n oser parler d’argent\n\n\n\n \n\n\n\n valoriser son travail\n\n\n\n \n\n\n\n développer une activité alignée et durable\n\n\n\n  \nComme toujours : \n \n petit-déjeuner convivial \n \n échanges entre praticiens \n \n conseils concrets \n \n \n **Vendredi 24 avril** \n \n 9h – 10h30 \n \n M&Vous — Gainneville \n \n Participation : 5 € \n \n Places limitées  \n \n Inscription ici : https://forms.gle/Z5JwAscYsTQcg87k6 \n \nOuvert à tous les praticiens et entrepreneurs du bien-être  \n \n\n \nLes prochaines dates :22 mai — Développer les collaborations locales19 juin — Soigner son image pour attirer les bons clients \n \nAu plaisir de vous accueillir pour ce nouveau rendez-vous incontournable des praticiens du bien-être
URL:https://m-vous.fr/event/mvous-morning-1ere-edition-communiquer-avec-authenticite-pour-attirer-les-bons-clients/
LOCATION:M&Vous Coworking Bien-être\, 163 rue de la Libération\, GAINNEVILLE\, 76700\, France
CATEGORIES:M&Vous Mornings
ATTACH;FMTTYPE=image/jpeg:https://m-vous.fr/wp-content/uploads/2026/03/mornings.jpg
END:VEVENT
END:VCALENDAR